Workbook

Sheet szabaszlista
A1: Személyes adatok: | J1: Ma-Bu Kft Fakopács Üzlet
A2: Megrendelő neve:
A3: Megrendelő címe: | J3: 4030 Debrecen, Kalmár Köz 1.
A4: e-mail: | J4: fakopacs@fakopacs.eu
A5: Telefonszám: | J5: +36 30 847-4360
A6: Dátum:
J7: Hátulja - (H2)
A8: Ajánlatkérés vagy megrendelés? | C8: Válassz! | I8: Bal- SZ1 | L8: Jobb - SZ2
J10: Eleje - (H1)
L11: ="Élzárás: " & szabaszlista!$M$16 & " - " & SUBTOTAL(109,szabaszlista!$M$17:$M$113) & " fm" -> Élzárás: 0,4mm ABS - 0 fm
A12: A megadott alapanyagok pontos nevét és színszámát kérnénk feltüntetni. | L12: ="Élzárás: " & szabaszlista!$N$16 & " - " & SUBTOTAL(109,szabaszlista!$N$17:$N$113) & " fm" -> Élzárás: 0,8mm ABS - 0 fm
A13: Élzáró esetében minden oszlopban ahol szükséges élzáró: 0,4 - 0,8 - 1 - 2 jelölés használható. | L13: ="Élzárás: " & szabaszlista!$O$16 & " - " & SUBTOTAL(109,szabaszlista!$O$17:$O$113) & " fm" -> Élzárás: 1mm ABS - 0 fm
A14: A leszabni kívánt alkatrészek kész méreteit mm-ben adja meg (élzárás figyelembevétele nélkül). | L14: ="Élzárás: " & szabaszlista!$P$16 & " - " & SUBTOTAL(109,szabaszlista!$P$17:$P$113) & " fm" -> Élzárás: 2mm ABS - 0 fm
L15: ="Felület: " & szabaszlista!$Q$16 & " - " & SUBTOTAL(109,szabaszlista!$Q$17:$Q$113) & " m2" -> Felület: m2 - 0 m2 | Q15: V5.0 | 2026.05.28
A16: Sorszám | B16: Bútorlap kód vagy név | C16: Hosszúság (Szálirány) (mm) H1-H2 | D16: Szélesség (mm) SZ1-SZ2 | E16: Darabszám | F16: Címke | G16: Szálirány (0:nincs, 1:van) | H16: Élzárás eleje H1 | I16: Élzárás hátulja H2 | J16: Élzárás bal SZ1 | K16: Élzárás jobb SZ2 | L16: Megjegyzés | M16: =adatok!$A$1&"mm ABS" -> 0,4mm ABS | N16: =adatok!$A$2&"mm ABS" -> 0,8mm ABS | O16: =adatok!$A$3&"mm ABS" -> 1mm ABS | P16: =adatok!$A$4&"mm ABS" -> 2mm ABS | Q16: m2
M17: =IF( IF(szabaszlista!$H17=adatok!$A$1,(szabaszlista!$C17/1000)*szabaszlista!$E17,0)+ IF(szabaszlista!$I17=adatok!$A$1,(szabaszlista!$C17/1000)*szabaszlista!$E17,0)+ IF(szabaszlista!$J17=adatok!$A$1,(szabaszlista!$D17/1000)*szabaszlista!$E17,0)+ IF(szabaszlista!$K17=adatok!$A$1,(szabaszlista!$D17/1000)*szabaszlista!$E17,0)=0, "", IF(szabaszlista!$H17=adatok!$A$1,(szabaszlista!$C17/1000)*szabaszlista!$E17,0)+ IF(szabaszlista!$I17=adatok!$A$1,(szabaszlista!$C17/1000)*szabaszlista!$E17,0)+ IF(szabaszlista!$J17=adatok!$A$1,(szabaszlista!$D17/1000)*szabaszlista!$E17,0)+ IF(szabaszlista!$K17=adatok!$A$1,(szabaszlista!$D17/1000)*szabaszlista!$E17,0)) | N17: =IF( IF(szabaszlista!$H17=adatok!$A$2,(szabaszlista!$C17/1000)*szabaszlista!$E17,0)+ IF(szabaszlista!$I17=adatok!$A$2,(szabaszlista!$C17/1000)*szabaszlista!$E17,0)+ IF(szabaszlista!$J17=adatok!$A$2,(szabaszlista!$D17/1000)*szabaszlista!$E17,0)+ IF(szabaszlista!$K17=adatok!$A$2,(szabaszlista!$D17/1000)*szabaszlista!$E17,0)=0, "", IF(szabaszlista!$H17=adatok!$A$2,(szabaszlista!$C17/1000)*szabaszlista!$E17,0)+ IF(szabaszlista!$I17=adatok!$A$2,(szabaszlista!$C17/1000)*szabaszlista!$E17,0)+ IF(szabaszlista!$J17=adatok!$A$2,(szabaszlista!$D17/1000)*szabaszlista!$E17,0)+ IF(szabaszlista!$K17=adatok!$A$2,(szabaszlista!$D17/1000)*szabaszlista!$E17,0)) | O17: =IF( IF(szabaszlista!$H17=adatok!$A$3,(szabaszlista!$C17/1000)*szabaszlista!$E17,0)+ IF(szabaszlista!$I17=adatok!$A$3,(szabaszlista!$C17/1000)*szabaszlista!$E17,0)+ IF(szabaszlista!$J17=adatok!$A$3,(szabaszlista!$D17/1000)*szabaszlista!$E17,0)+ IF(szabaszlista!$K17=adatok!$A$3,(szabaszlista!$D17/1000)*szabaszlista!$E17,0)=0, "", IF(szabaszlista!$H17=adatok!$A$3,(szabaszlista!$C17/1000)*szabaszlista!$E17,0)+ IF(szabaszlista!$I17=adatok!$A$3,(szabaszlista!$C17/1000)*szabaszlista!$E17,0)+ IF(szabaszlista!$J17=adatok!$A$3,(szabaszlista!$D17/1000)*szabaszlista!$E17,0)+ IF(szabaszlista!$K17=adatok!$A$3,(szabaszlista!$D17/1000)*szabaszlista!$E17,0)) | P17: =IF( IF(szabaszlista!$H17=adatok!$A$4,(szabaszlista!$C17/1000)*szabaszlista!$E17,0)+ IF(szabaszlista!$I17=adatok!$A$4,(szabaszlista!$C17/1000)*szabaszlista!$E17,0)+ IF(szabaszlista!$J17=adatok!$A$4,(szabaszlista!$D17/1000)*szabaszlista!$E17,0)+ IF(szabaszlista!$K17=adatok!$A$4,(szabaszlista!$D17/1000)*szabaszlista!$E17,0)=0, "", IF(szabaszlista!$H17=adatok!$A$4,(szabaszlista!$C17/1000)*szabaszlista!$E17,0)+ IF(szabaszlista!$I17=adatok!$A$4,(szabaszlista!$C17/1000)*szabaszlista!$E17,0)+ IF(szabaszlista!$J17=adatok!$A$4,(szabaszlista!$D17/1000)*szabaszlista!$E17,0)+ IF(szabaszlista!$K17=adatok!$A$4,(szabaszlista!$D17/1000)*szabaszlista!$E17,0)) | Q17: =IF(szabaszlista!$E17>0,((szabaszlista!$C17/1000)*(szabaszlista!$D17/1000))*szabaszlista!$E17,"")
M18: =IF( IF(szabaszlista!$H18=adatok!$A$1,(szabaszlista!$C18/1000)*szabaszlista!$E18,0)+ IF(szabaszlista!$I18=adatok!$A$1,(szabaszlista!$C18/1000)*szabaszlista!$E18,0)+ IF(szabaszlista!$J18=adatok!$A$1,(szabaszlista!$D18/1000)*szabaszlista!$E18,0)+ IF(szabaszlista!$K18=adatok!$A$1,(szabaszlista!$D18/1000)*szabaszlista!$E18,0)=0, "", IF(szabaszlista!$H18=adatok!$A$1,(szabaszlista!$C18/1000)*szabaszlista!$E18,0)+ IF(szabaszlista!$I18=adatok!$A$1,(szabaszlista!$C18/1000)*szabaszlista!$E18,0)+ IF(szabaszlista!$J18=adatok!$A$1,(szabaszlista!$D18/1000)*szabaszlista!$E18,0)+ IF(szabaszlista!$K18=adatok!$A$1,(szabaszlista!$D18/1000)*szabaszlista!$E18,0)) | N18: =IF( IF(szabaszlista!$H18=adatok!$A$2,(szabaszlista!$C18/1000)*szabaszlista!$E18,0)+ IF(szabaszlista!$I18=adatok!$A$2,(szabaszlista!$C18/1000)*szabaszlista!$E18,0)+ IF(szabaszlista!$J18=adatok!$A$2,(szabaszlista!$D18/1000)*szabaszlista!$E18,0)+ IF(szabaszlista!$K18=adatok!$A$2,(szabaszlista!$D18/1000)*szabaszlista!$E18,0)=0, "", IF(szabaszlista!$H18=adatok!$A$2,(szabaszlista!$C18/1000)*szabaszlista!$E18,0)+ IF(szabaszlista!$I18=adatok!$A$2,(szabaszlista!$C18/1000)*szabaszlista!$E18,0)+ IF(szabaszlista!$J18=adatok!$A$2,(szabaszlista!$D18/1000)*szabaszlista!$E18,0)+ IF(szabaszlista!$K18=adatok!$A$2,(szabaszlista!$D18/1000)*szabaszlista!$E18,0)) | O18: =IF( IF(szabaszlista!$H18=adatok!$A$3,(szabaszlista!$C18/1000)*szabaszlista!$E18,0)+ IF(szabaszlista!$I18=adatok!$A$3,(szabaszlista!$C18/1000)*szabaszlista!$E18,0)+ IF(szabaszlista!$J18=adatok!$A$3,(szabaszlista!$D18/1000)*szabaszlista!$E18,0)+ IF(szabaszlista!$K18=adatok!$A$3,(szabaszlista!$D18/1000)*szabaszlista!$E18,0)=0, "", IF(szabaszlista!$H18=adatok!$A$3,(szabaszlista!$C18/1000)*szabaszlista!$E18,0)+ IF(szabaszlista!$I18=adatok!$A$3,(szabaszlista!$C18/1000)*szabaszlista!$E18,0)+ IF(szabaszlista!$J18=adatok!$A$3,(szabaszlista!$D18/1000)*szabaszlista!$E18,0)+ IF(szabaszlista!$K18=adatok!$A$3,(szabaszlista!$D18/1000)*szabaszlista!$E18,0)) | P18: =IF( IF(szabaszlista!$H18=adatok!$A$4,(szabaszlista!$C18/1000)*szabaszlista!$E18,0)+ IF(szabaszlista!$I18=adatok!$A$4,(szabaszlista!$C18/1000)*szabaszlista!$E18,0)+ IF(szabaszlista!$J18=adatok!$A$4,(szabaszlista!$D18/1000)*szabaszlista!$E18,0)+ IF(szabaszlista!$K18=adatok!$A$4,(szabaszlista!$D18/1000)*szabaszlista!$E18,0)=0, "", IF(szabaszlista!$H18=adatok!$A$4,(szabaszlista!$C18/1000)*szabaszlista!$E18,0)+ IF(szabaszlista!$I18=adatok!$A$4,(szabaszlista!$C18/1000)*szabaszlista!$E18,0)+ IF(szabaszlista!$J18=adatok!$A$4,(szabaszlista!$D18/1000)*szabaszlista!$E18,0)+ IF(szabaszlista!$K18=adatok!$A$4,(szabaszlista!$D18/1000)*szabaszlista!$E18,0)) | Q18: =IF(szabaszlista!$E18>0,((szabaszlista!$C18/1000)*(szabaszlista!$D18/1000))*szabaszlista!$E18,"")
M19: =IF( IF(szabaszlista!$H19=adatok!$A$1,(szabaszlista!$C19/1000)*szabaszlista!$E19,0)+ IF(szabaszlista!$I19=adatok!$A$1,(szabaszlista!$C19/1000)*szabaszlista!$E19,0)+ IF(szabaszlista!$J19=adatok!$A$1,(szabaszlista!$D19/1000)*szabaszlista!$E19,0)+ IF(szabaszlista!$K19=adatok!$A$1,(szabaszlista!$D19/1000)*szabaszlista!$E19,0)=0, "", IF(szabaszlista!$H19=adatok!$A$1,(szabaszlista!$C19/1000)*szabaszlista!$E19,0)+ IF(szabaszlista!$I19=adatok!$A$1,(szabaszlista!$C19/1000)*szabaszlista!$E19,0)+ IF(szabaszlista!$J19=adatok!$A$1,(szabaszlista!$D19/1000)*szabaszlista!$E19,0)+ IF(szabaszlista!$K19=adatok!$A$1,(szabaszlista!$D19/1000)*szabaszlista!$E19,0)) | N19: =IF( IF(szabaszlista!$H19=adatok!$A$2,(szabaszlista!$C19/1000)*szabaszlista!$E19,0)+ IF(szabaszlista!$I19=adatok!$A$2,(szabaszlista!$C19/1000)*szabaszlista!$E19,0)+ IF(szabaszlista!$J19=adatok!$A$2,(szabaszlista!$D19/1000)*szabaszlista!$E19,0)+ IF(szabaszlista!$K19=adatok!$A$2,(szabaszlista!$D19/1000)*szabaszlista!$E19,0)=0, "", IF(szabaszlista!$H19=adatok!$A$2,(szabaszlista!$C19/1000)*szabaszlista!$E19,0)+ IF(szabaszlista!$I19=adatok!$A$2,(szabaszlista!$C19/1000)*szabaszlista!$E19,0)+ IF(szabaszlista!$J19=adatok!$A$2,(szabaszlista!$D19/1000)*szabaszlista!$E19,0)+ IF(szabaszlista!$K19=adatok!$A$2,(szabaszlista!$D19/1000)*szabaszlista!$E19,0)) | O19: =IF( IF(szabaszlista!$H19=adatok!$A$3,(szabaszlista!$C19/1000)*szabaszlista!$E19,0)+ IF(szabaszlista!$I19=adatok!$A$3,(szabaszlista!$C19/1000)*szabaszlista!$E19,0)+ IF(szabaszlista!$J19=adatok!$A$3,(szabaszlista!$D19/1000)*szabaszlista!$E19,0)+ IF(szabaszlista!$K19=adatok!$A$3,(szabaszlista!$D19/1000)*szabaszlista!$E19,0)=0, "", IF(szabaszlista!$H19=adatok!$A$3,(szabaszlista!$C19/1000)*szabaszlista!$E19,0)+ IF(szabaszlista!$I19=adatok!$A$3,(szabaszlista!$C19/1000)*szabaszlista!$E19,0)+ IF(szabaszlista!$J19=adatok!$A$3,(szabaszlista!$D19/1000)*szabaszlista!$E19,0)+ IF(szabaszlista!$K19=adatok!$A$3,(szabaszlista!$D19/1000)*szabaszlista!$E19,0)) | P19: =IF( IF(szabaszlista!$H19=adatok!$A$4,(szabaszlista!$C19/1000)*szabaszlista!$E19,0)+ IF(szabaszlista!$I19=adatok!$A$4,(szabaszlista!$C19/1000)*szabaszlista!$E19,0)+ IF(szabaszlista!$J19=adatok!$A$4,(szabaszlista!$D19/1000)*szabaszlista!$E19,0)+ IF(szabaszlista!$K19=adatok!$A$4,(szabaszlista!$D19/1000)*szabaszlista!$E19,0)=0, "", IF(szabaszlista!$H19=adatok!$A$4,(szabaszlista!$C19/1000)*szabaszlista!$E19,0)+ IF(szabaszlista!$I19=adatok!$A$4,(szabaszlista!$C19/1000)*szabaszlista!$E19,0)+ IF(szabaszlista!$J19=adatok!$A$4,(szabaszlista!$D19/1000)*szabaszlista!$E19,0)+ IF(szabaszlista!$K19=adatok!$A$4,(szabaszlista!$D19/1000)*szabaszlista!$E19,0)) | Q19: =IF(szabaszlista!$E19>0,((szabaszlista!$C19/1000)*(szabaszlista!$D19/1000))*szabaszlista!$E19,"")
M20: =IF( IF(szabaszlista!$H20=adatok!$A$1,(szabaszlista!$C20/1000)*szabaszlista!$E20,0)+ IF(szabaszlista!$I20=adatok!$A$1,(szabaszlista!$C20/1000)*szabaszlista!$E20,0)+ IF(szabaszlista!$J20=adatok!$A$1,(szabaszlista!$D20/1000)*szabaszlista!$E20,0)+ IF(szabaszlista!$K20=adatok!$A$1,(szabaszlista!$D20/1000)*szabaszlista!$E20,0)=0, "", IF(szabaszlista!$H20=adatok!$A$1,(szabaszlista!$C20/1000)*szabaszlista!$E20,0)+ IF(szabaszlista!$I20=adatok!$A$1,(szabaszlista!$C20/1000)*szabaszlista!$E20,0)+ IF(szabaszlista!$J20=adatok!$A$1,(szabaszlista!$D20/1000)*szabaszlista!$E20,0)+ IF(szabaszlista!$K20=adatok!$A$1,(szabaszlista!$D20/1000)*szabaszlista!$E20,0)) | N20: =IF( IF(szabaszlista!$H20=adatok!$A$2,(szabaszlista!$C20/1000)*szabaszlista!$E20,0)+ IF(szabaszlista!$I20=adatok!$A$2,(szabaszlista!$C20/1000)*szabaszlista!$E20,0)+ IF(szabaszlista!$J20=adatok!$A$2,(szabaszlista!$D20/1000)*szabaszlista!$E20,0)+ IF(szabaszlista!$K20=adatok!$A$2,(szabaszlista!$D20/1000)*szabaszlista!$E20,0)=0, "", IF(szabaszlista!$H20=adatok!$A$2,(szabaszlista!$C20/1000)*szabaszlista!$E20,0)+ IF(szabaszlista!$I20=adatok!$A$2,(szabaszlista!$C20/1000)*szabaszlista!$E20,0)+ IF(szabaszlista!$J20=adatok!$A$2,(szabaszlista!$D20/1000)*szabaszlista!$E20,0)+ IF(szabaszlista!$K20=adatok!$A$2,(szabaszlista!$D20/1000)*szabaszlista!$E20,0)) | O20: =IF( IF(szabaszlista!$H20=adatok!$A$3,(szabaszlista!$C20/1000)*szabaszlista!$E20,0)+ IF(szabaszlista!$I20=adatok!$A$3,(szabaszlista!$C20/1000)*szabaszlista!$E20,0)+ IF(szabaszlista!$J20=adatok!$A$3,(szabaszlista!$D20/1000)*szabaszlista!$E20,0)+ IF(szabaszlista!$K20=adatok!$A$3,(szabaszlista!$D20/1000)*szabaszlista!$E20,0)=0, "", IF(szabaszlista!$H20=adatok!$A$3,(szabaszlista!$C20/1000)*szabaszlista!$E20,0)+ IF(szabaszlista!$I20=adatok!$A$3,(szabaszlista!$C20/1000)*szabaszlista!$E20,0)+ IF(szabaszlista!$J20=adatok!$A$3,(szabaszlista!$D20/1000)*szabaszlista!$E20,0)+ IF(szabaszlista!$K20=adatok!$A$3,(szabaszlista!$D20/1000)*szabaszlista!$E20,0)) | P20: =IF( IF(szabaszlista!$H20=adatok!$A$4,(szabaszlista!$C20/1000)*szabaszlista!$E20,0)+ IF(szabaszlista!$I20=adatok!$A$4,(szabaszlista!$C20/1000)*szabaszlista!$E20,0)+ IF(szabaszlista!$J20=adatok!$A$4,(szabaszlista!$D20/1000)*szabaszlista!$E20,0)+ IF(szabaszlista!$K20=adatok!$A$4,(szabaszlista!$D20/1000)*szabaszlista!$E20,0)=0, "", IF(szabaszlista!$H20=adatok!$A$4,(szabaszlista!$C20/1000)*szabaszlista!$E20,0)+ IF(szabaszlista!$I20=adatok!$A$4,(szabaszlista!$C20/1000)*szabaszlista!$E20,0)+ IF(szabaszlista!$J20=adatok!$A$4,(szabaszlista!$D20/1000)*szabaszlista!$E20,0)+ IF(szabaszlista!$K20=adatok!$A$4,(szabaszlista!$D20/1000)*szabaszlista!$E20,0)) | Q20: =IF(szabaszlista!$E20>0,((szabaszlista!$C20/1000)*(szabaszlista!$D20/1000))*szabaszlista!$E20,"")
M21: =IF( IF(szabaszlista!$H21=adatok!$A$1,(szabaszlista!$C21/1000)*szabaszlista!$E21,0)+ IF(szabaszlista!$I21=adatok!$A$1,(szabaszlista!$C21/1000)*szabaszlista!$E21,0)+ IF(szabaszlista!$J21=adatok!$A$1,(szabaszlista!$D21/1000)*szabaszlista!$E21,0)+ IF(szabaszlista!$K21=adatok!$A$1,(szabaszlista!$D21/1000)*szabaszlista!$E21,0)=0, "", IF(szabaszlista!$H21=adatok!$A$1,(szabaszlista!$C21/1000)*szabaszlista!$E21,0)+ IF(szabaszlista!$I21=adatok!$A$1,(szabaszlista!$C21/1000)*szabaszlista!$E21,0)+ IF(szabaszlista!$J21=adatok!$A$1,(szabaszlista!$D21/1000)*szabaszlista!$E21,0)+ IF(szabaszlista!$K21=adatok!$A$1,(szabaszlista!$D21/1000)*szabaszlista!$E21,0)) | N21: =IF( IF(szabaszlista!$H21=adatok!$A$2,(szabaszlista!$C21/1000)*szabaszlista!$E21,0)+ IF(szabaszlista!$I21=adatok!$A$2,(szabaszlista!$C21/1000)*szabaszlista!$E21,0)+ IF(szabaszlista!$J21=adatok!$A$2,(szabaszlista!$D21/1000)*szabaszlista!$E21,0)+ IF(szabaszlista!$K21=adatok!$A$2,(szabaszlista!$D21/1000)*szabaszlista!$E21,0)=0, "", IF(szabaszlista!$H21=adatok!$A$2,(szabaszlista!$C21/1000)*szabaszlista!$E21,0)+ IF(szabaszlista!$I21=adatok!$A$2,(szabaszlista!$C21/1000)*szabaszlista!$E21,0)+ IF(szabaszlista!$J21=adatok!$A$2,(szabaszlista!$D21/1000)*szabaszlista!$E21,0)+ IF(szabaszlista!$K21=adatok!$A$2,(szabaszlista!$D21/1000)*szabaszlista!$E21,0)) | O21: =IF( IF(szabaszlista!$H21=adatok!$A$3,(szabaszlista!$C21/1000)*szabaszlista!$E21,0)+ IF(szabaszlista!$I21=adatok!$A$3,(szabaszlista!$C21/1000)*szabaszlista!$E21,0)+ IF(szabaszlista!$J21=adatok!$A$3,(szabaszlista!$D21/1000)*szabaszlista!$E21,0)+ IF(szabaszlista!$K21=adatok!$A$3,(szabaszlista!$D21/1000)*szabaszlista!$E21,0)=0, "", IF(szabaszlista!$H21=adatok!$A$3,(szabaszlista!$C21/1000)*szabaszlista!$E21,0)+ IF(szabaszlista!$I21=adatok!$A$3,(szabaszlista!$C21/1000)*szabaszlista!$E21,0)+ IF(szabaszlista!$J21=adatok!$A$3,(szabaszlista!$D21/1000)*szabaszlista!$E21,0)+ IF(szabaszlista!$K21=adatok!$A$3,(szabaszlista!$D21/1000)*szabaszlista!$E21,0)) | P21: =IF( IF(szabaszlista!$H21=adatok!$A$4,(szabaszlista!$C21/1000)*szabaszlista!$E21,0)+ IF(szabaszlista!$I21=adatok!$A$4,(szabaszlista!$C21/1000)*szabaszlista!$E21,0)+ IF(szabaszlista!$J21=adatok!$A$4,(szabaszlista!$D21/1000)*szabaszlista!$E21,0)+ IF(szabaszlista!$K21=adatok!$A$4,(szabaszlista!$D21/1000)*szabaszlista!$E21,0)=0, "", IF(szabaszlista!$H21=adatok!$A$4,(szabaszlista!$C21/1000)*szabaszlista!$E21,0)+ IF(szabaszlista!$I21=adatok!$A$4,(szabaszlista!$C21/1000)*szabaszlista!$E21,0)+ IF(szabaszlista!$J21=adatok!$A$4,(szabaszlista!$D21/1000)*szabaszlista!$E21,0)+ IF(szabaszlista!$K21=adatok!$A$4,(szabaszlista!$D21/1000)*szabaszlista!$E21,0)) | Q21: =IF(szabaszlista!$E21>0,((szabaszlista!$C21/1000)*(szabaszlista!$D21/1000))*szabaszlista!$E21,"")
M22: =IF( IF(szabaszlista!$H22=adatok!$A$1,(szabaszlista!$C22/1000)*szabaszlista!$E22,0)+ IF(szabaszlista!$I22=adatok!$A$1,(szabaszlista!$C22/1000)*szabaszlista!$E22,0)+ IF(szabaszlista!$J22=adatok!$A$1,(szabaszlista!$D22/1000)*szabaszlista!$E22,0)+ IF(szabaszlista!$K22=adatok!$A$1,(szabaszlista!$D22/1000)*szabaszlista!$E22,0)=0, "", IF(szabaszlista!$H22=adatok!$A$1,(szabaszlista!$C22/1000)*szabaszlista!$E22,0)+ IF(szabaszlista!$I22=adatok!$A$1,(szabaszlista!$C22/1000)*szabaszlista!$E22,0)+ IF(szabaszlista!$J22=adatok!$A$1,(szabaszlista!$D22/1000)*szabaszlista!$E22,0)+ IF(szabaszlista!$K22=adatok!$A$1,(szabaszlista!$D22/1000)*szabaszlista!$E22,0)) | N22: =IF( IF(szabaszlista!$H22=adatok!$A$2,(szabaszlista!$C22/1000)*szabaszlista!$E22,0)+ IF(szabaszlista!$I22=adatok!$A$2,(szabaszlista!$C22/1000)*szabaszlista!$E22,0)+ IF(szabaszlista!$J22=adatok!$A$2,(szabaszlista!$D22/1000)*szabaszlista!$E22,0)+ IF(szabaszlista!$K22=adatok!$A$2,(szabaszlista!$D22/1000)*szabaszlista!$E22,0)=0, "", IF(szabaszlista!$H22=adatok!$A$2,(szabaszlista!$C22/1000)*szabaszlista!$E22,0)+ IF(szabaszlista!$I22=adatok!$A$2,(szabaszlista!$C22/1000)*szabaszlista!$E22,0)+ IF(szabaszlista!$J22=adatok!$A$2,(szabaszlista!$D22/1000)*szabaszlista!$E22,0)+ IF(szabaszlista!$K22=adatok!$A$2,(szabaszlista!$D22/1000)*szabaszlista!$E22,0)) | O22: =IF( IF(szabaszlista!$H22=adatok!$A$3,(szabaszlista!$C22/1000)*szabaszlista!$E22,0)+ IF(szabaszlista!$I22=adatok!$A$3,(szabaszlista!$C22/1000)*szabaszlista!$E22,0)+ IF(szabaszlista!$J22=adatok!$A$3,(szabaszlista!$D22/1000)*szabaszlista!$E22,0)+ IF(szabaszlista!$K22=adatok!$A$3,(szabaszlista!$D22/1000)*szabaszlista!$E22,0)=0, "", IF(szabaszlista!$H22=adatok!$A$3,(szabaszlista!$C22/1000)*szabaszlista!$E22,0)+ IF(szabaszlista!$I22=adatok!$A$3,(szabaszlista!$C22/1000)*szabaszlista!$E22,0)+ IF(szabaszlista!$J22=adatok!$A$3,(szabaszlista!$D22/1000)*szabaszlista!$E22,0)+ IF(szabaszlista!$K22=adatok!$A$3,(szabaszlista!$D22/1000)*szabaszlista!$E22,0)) | P22: =IF( IF(szabaszlista!$H22=adatok!$A$4,(szabaszlista!$C22/1000)*szabaszlista!$E22,0)+ IF(szabaszlista!$I22=adatok!$A$4,(szabaszlista!$C22/1000)*szabaszlista!$E22,0)+ IF(szabaszlista!$J22=adatok!$A$4,(szabaszlista!$D22/1000)*szabaszlista!$E22,0)+ IF(szabaszlista!$K22=adatok!$A$4,(szabaszlista!$D22/1000)*szabaszlista!$E22,0)=0, "", IF(szabaszlista!$H22=adatok!$A$4,(szabaszlista!$C22/1000)*szabaszlista!$E22,0)+ IF(szabaszlista!$I22=adatok!$A$4,(szabaszlista!$C22/1000)*szabaszlista!$E22,0)+ IF(szabaszlista!$J22=adatok!$A$4,(szabaszlista!$D22/1000)*szabaszlista!$E22,0)+ IF(szabaszlista!$K22=adatok!$A$4,(szabaszlista!$D22/1000)*szabaszlista!$E22,0)) | Q22: =IF(szabaszlista!$E22>0,((szabaszlista!$C22/1000)*(szabaszlista!$D22/1000))*szabaszlista!$E22,"")
M23: =IF( IF(szabaszlista!$H23=adatok!$A$1,(szabaszlista!$C23/1000)*szabaszlista!$E23,0)+ IF(szabaszlista!$I23=adatok!$A$1,(szabaszlista!$C23/1000)*szabaszlista!$E23,0)+ IF(szabaszlista!$J23=adatok!$A$1,(szabaszlista!$D23/1000)*szabaszlista!$E23,0)+ IF(szabaszlista!$K23=adatok!$A$1,(szabaszlista!$D23/1000)*szabaszlista!$E23,0)=0, "", IF(szabaszlista!$H23=adatok!$A$1,(szabaszlista!$C23/1000)*szabaszlista!$E23,0)+ IF(szabaszlista!$I23=adatok!$A$1,(szabaszlista!$C23/1000)*szabaszlista!$E23,0)+ IF(szabaszlista!$J23=adatok!$A$1,(szabaszlista!$D23/1000)*szabaszlista!$E23,0)+ IF(szabaszlista!$K23=adatok!$A$1,(szabaszlista!$D23/1000)*szabaszlista!$E23,0)) | N23: =IF( IF(szabaszlista!$H23=adatok!$A$2,(szabaszlista!$C23/1000)*szabaszlista!$E23,0)+ IF(szabaszlista!$I23=adatok!$A$2,(szabaszlista!$C23/1000)*szabaszlista!$E23,0)+ IF(szabaszlista!$J23=adatok!$A$2,(szabaszlista!$D23/1000)*szabaszlista!$E23,0)+ IF(szabaszlista!$K23=adatok!$A$2,(szabaszlista!$D23/1000)*szabaszlista!$E23,0)=0, "", IF(szabaszlista!$H23=adatok!$A$2,(szabaszlista!$C23/1000)*szabaszlista!$E23,0)+ IF(szabaszlista!$I23=adatok!$A$2,(szabaszlista!$C23/1000)*szabaszlista!$E23,0)+ IF(szabaszlista!$J23=adatok!$A$2,(szabaszlista!$D23/1000)*szabaszlista!$E23,0)+ IF(szabaszlista!$K23=adatok!$A$2,(szabaszlista!$D23/1000)*szabaszlista!$E23,0)) | O23: =IF( IF(szabaszlista!$H23=adatok!$A$3,(szabaszlista!$C23/1000)*szabaszlista!$E23,0)+ IF(szabaszlista!$I23=adatok!$A$3,(szabaszlista!$C23/1000)*szabaszlista!$E23,0)+ IF(szabaszlista!$J23=adatok!$A$3,(szabaszlista!$D23/1000)*szabaszlista!$E23,0)+ IF(szabaszlista!$K23=adatok!$A$3,(szabaszlista!$D23/1000)*szabaszlista!$E23,0)=0, "", IF(szabaszlista!$H23=adatok!$A$3,(szabaszlista!$C23/1000)*szabaszlista!$E23,0)+ IF(szabaszlista!$I23=adatok!$A$3,(szabaszlista!$C23/1000)*szabaszlista!$E23,0)+ IF(szabaszlista!$J23=adatok!$A$3,(szabaszlista!$D23/1000)*szabaszlista!$E23,0)+ IF(szabaszlista!$K23=adatok!$A$3,(szabaszlista!$D23/1000)*szabaszlista!$E23,0)) | P23: =IF( IF(szabaszlista!$H23=adatok!$A$4,(szabaszlista!$C23/1000)*szabaszlista!$E23,0)+ IF(szabaszlista!$I23=adatok!$A$4,(szabaszlista!$C23/1000)*szabaszlista!$E23,0)+ IF(szabaszlista!$J23=adatok!$A$4,(szabaszlista!$D23/1000)*szabaszlista!$E23,0)+ IF(szabaszlista!$K23=adatok!$A$4,(szabaszlista!$D23/1000)*szabaszlista!$E23,0)=0, "", IF(szabaszlista!$H23=adatok!$A$4,(szabaszlista!$C23/1000)*szabaszlista!$E23,0)+ IF(szabaszlista!$I23=adatok!$A$4,(szabaszlista!$C23/1000)*szabaszlista!$E23,0)+ IF(szabaszlista!$J23=adatok!$A$4,(szabaszlista!$D23/1000)*szabaszlista!$E23,0)+ IF(szabaszlista!$K23=adatok!$A$4,(szabaszlista!$D23/1000)*szabaszlista!$E23,0)) | Q23: =IF(szabaszlista!$E23>0,((szabaszlista!$C23/1000)*(szabaszlista!$D23/1000))*szabaszlista!$E23,"")
M24: =IF( IF(szabaszlista!$H24=adatok!$A$1,(szabaszlista!$C24/1000)*szabaszlista!$E24,0)+ IF(szabaszlista!$I24=adatok!$A$1,(szabaszlista!$C24/1000)*szabaszlista!$E24,0)+ IF(szabaszlista!$J24=adatok!$A$1,(szabaszlista!$D24/1000)*szabaszlista!$E24,0)+ IF(szabaszlista!$K24=adatok!$A$1,(szabaszlista!$D24/1000)*szabaszlista!$E24,0)=0, "", IF(szabaszlista!$H24=adatok!$A$1,(szabaszlista!$C24/1000)*szabaszlista!$E24,0)+ IF(szabaszlista!$I24=adatok!$A$1,(szabaszlista!$C24/1000)*szabaszlista!$E24,0)+ IF(szabaszlista!$J24=adatok!$A$1,(szabaszlista!$D24/1000)*szabaszlista!$E24,0)+ IF(szabaszlista!$K24=adatok!$A$1,(szabaszlista!$D24/1000)*szabaszlista!$E24,0)) | N24: =IF( IF(szabaszlista!$H24=adatok!$A$2,(szabaszlista!$C24/1000)*szabaszlista!$E24,0)+ IF(szabaszlista!$I24=adatok!$A$2,(szabaszlista!$C24/1000)*szabaszlista!$E24,0)+ IF(szabaszlista!$J24=adatok!$A$2,(szabaszlista!$D24/1000)*szabaszlista!$E24,0)+ IF(szabaszlista!$K24=adatok!$A$2,(szabaszlista!$D24/1000)*szabaszlista!$E24,0)=0, "", IF(szabaszlista!$H24=adatok!$A$2,(szabaszlista!$C24/1000)*szabaszlista!$E24,0)+ IF(szabaszlista!$I24=adatok!$A$2,(szabaszlista!$C24/1000)*szabaszlista!$E24,0)+ IF(szabaszlista!$J24=adatok!$A$2,(szabaszlista!$D24/1000)*szabaszlista!$E24,0)+ IF(szabaszlista!$K24=adatok!$A$2,(szabaszlista!$D24/1000)*szabaszlista!$E24,0)) | O24: =IF( IF(szabaszlista!$H24=adatok!$A$3,(szabaszlista!$C24/1000)*szabaszlista!$E24,0)+ IF(szabaszlista!$I24=adatok!$A$3,(szabaszlista!$C24/1000)*szabaszlista!$E24,0)+ IF(szabaszlista!$J24=adatok!$A$3,(szabaszlista!$D24/1000)*szabaszlista!$E24,0)+ IF(szabaszlista!$K24=adatok!$A$3,(szabaszlista!$D24/1000)*szabaszlista!$E24,0)=0, "", IF(szabaszlista!$H24=adatok!$A$3,(szabaszlista!$C24/1000)*szabaszlista!$E24,0)+ IF(szabaszlista!$I24=adatok!$A$3,(szabaszlista!$C24/1000)*szabaszlista!$E24,0)+ IF(szabaszlista!$J24=adatok!$A$3,(szabaszlista!$D24/1000)*szabaszlista!$E24,0)+ IF(szabaszlista!$K24=adatok!$A$3,(szabaszlista!$D24/1000)*szabaszlista!$E24,0)) | P24: =IF( IF(szabaszlista!$H24=adatok!$A$4,(szabaszlista!$C24/1000)*szabaszlista!$E24,0)+ IF(szabaszlista!$I24=adatok!$A$4,(szabaszlista!$C24/1000)*szabaszlista!$E24,0)+ IF(szabaszlista!$J24=adatok!$A$4,(szabaszlista!$D24/1000)*szabaszlista!$E24,0)+ IF(szabaszlista!$K24=adatok!$A$4,(szabaszlista!$D24/1000)*szabaszlista!$E24,0)=0, "", IF(szabaszlista!$H24=adatok!$A$4,(szabaszlista!$C24/1000)*szabaszlista!$E24,0)+ IF(szabaszlista!$I24=adatok!$A$4,(szabaszlista!$C24/1000)*szabaszlista!$E24,0)+ IF(szabaszlista!$J24=adatok!$A$4,(szabaszlista!$D24/1000)*szabaszlista!$E24,0)+ IF(szabaszlista!$K24=adatok!$A$4,(szabaszlista!$D24/1000)*szabaszlista!$E24,0)) | Q24: =IF(szabaszlista!$E24>0,((szabaszlista!$C24/1000)*(szabaszlista!$D24/1000))*szabaszlista!$E24,"")
M25: =IF( IF(szabaszlista!$H25=adatok!$A$1,(szabaszlista!$C25/1000)*szabaszlista!$E25,0)+ IF(szabaszlista!$I25=adatok!$A$1,(szabaszlista!$C25/1000)*szabaszlista!$E25,0)+ IF(szabaszlista!$J25=adatok!$A$1,(szabaszlista!$D25/1000)*szabaszlista!$E25,0)+ IF(szabaszlista!$K25=adatok!$A$1,(szabaszlista!$D25/1000)*szabaszlista!$E25,0)=0, "", IF(szabaszlista!$H25=adatok!$A$1,(szabaszlista!$C25/1000)*szabaszlista!$E25,0)+ IF(szabaszlista!$I25=adatok!$A$1,(szabaszlista!$C25/1000)*szabaszlista!$E25,0)+ IF(szabaszlista!$J25=adatok!$A$1,(szabaszlista!$D25/1000)*szabaszlista!$E25,0)+ IF(szabaszlista!$K25=adatok!$A$1,(szabaszlista!$D25/1000)*szabaszlista!$E25,0)) | N25: =IF( IF(szabaszlista!$H25=adatok!$A$2,(szabaszlista!$C25/1000)*szabaszlista!$E25,0)+ IF(szabaszlista!$I25=adatok!$A$2,(szabaszlista!$C25/1000)*szabaszlista!$E25,0)+ IF(szabaszlista!$J25=adatok!$A$2,(szabaszlista!$D25/1000)*szabaszlista!$E25,0)+ IF(szabaszlista!$K25=adatok!$A$2,(szabaszlista!$D25/1000)*szabaszlista!$E25,0)=0, "", IF(szabaszlista!$H25=adatok!$A$2,(szabaszlista!$C25/1000)*szabaszlista!$E25,0)+ IF(szabaszlista!$I25=adatok!$A$2,(szabaszlista!$C25/1000)*szabaszlista!$E25,0)+ IF(szabaszlista!$J25=adatok!$A$2,(szabaszlista!$D25/1000)*szabaszlista!$E25,0)+ IF(szabaszlista!$K25=adatok!$A$2,(szabaszlista!$D25/1000)*szabaszlista!$E25,0)) | O25: =IF( IF(szabaszlista!$H25=adatok!$A$3,(szabaszlista!$C25/1000)*szabaszlista!$E25,0)+ IF(szabaszlista!$I25=adatok!$A$3,(szabaszlista!$C25/1000)*szabaszlista!$E25,0)+ IF(szabaszlista!$J25=adatok!$A$3,(szabaszlista!$D25/1000)*szabaszlista!$E25,0)+ IF(szabaszlista!$K25=adatok!$A$3,(szabaszlista!$D25/1000)*szabaszlista!$E25,0)=0, "", IF(szabaszlista!$H25=adatok!$A$3,(szabaszlista!$C25/1000)*szabaszlista!$E25,0)+ IF(szabaszlista!$I25=adatok!$A$3,(szabaszlista!$C25/1000)*szabaszlista!$E25,0)+ IF(szabaszlista!$J25=adatok!$A$3,(szabaszlista!$D25/1000)*szabaszlista!$E25,0)+ IF(szabaszlista!$K25=adatok!$A$3,(szabaszlista!$D25/1000)*szabaszlista!$E25,0)) | P25: =IF( IF(szabaszlista!$H25=adatok!$A$4,(szabaszlista!$C25/1000)*szabaszlista!$E25,0)+ IF(szabaszlista!$I25=adatok!$A$4,(szabaszlista!$C25/1000)*szabaszlista!$E25,0)+ IF(szabaszlista!$J25=adatok!$A$4,(szabaszlista!$D25/1000)*szabaszlista!$E25,0)+ IF(szabaszlista!$K25=adatok!$A$4,(szabaszlista!$D25/1000)*szabaszlista!$E25,0)=0, "", IF(szabaszlista!$H25=adatok!$A$4,(szabaszlista!$C25/1000)*szabaszlista!$E25,0)+ IF(szabaszlista!$I25=adatok!$A$4,(szabaszlista!$C25/1000)*szabaszlista!$E25,0)+ IF(szabaszlista!$J25=adatok!$A$4,(szabaszlista!$D25/1000)*szabaszlista!$E25,0)+ IF(szabaszlista!$K25=adatok!$A$4,(szabaszlista!$D25/1000)*szabaszlista!$E25,0)) | Q25: =IF(szabaszlista!$E25>0,((szabaszlista!$C25/1000)*(szabaszlista!$D25/1000))*szabaszlista!$E25,"")
M26: =IF( IF(szabaszlista!$H26=adatok!$A$1,(szabaszlista!$C26/1000)*szabaszlista!$E26,0)+ IF(szabaszlista!$I26=adatok!$A$1,(szabaszlista!$C26/1000)*szabaszlista!$E26,0)+ IF(szabaszlista!$J26=adatok!$A$1,(szabaszlista!$D26/1000)*szabaszlista!$E26,0)+ IF(szabaszlista!$K26=adatok!$A$1,(szabaszlista!$D26/1000)*szabaszlista!$E26,0)=0, "", IF(szabaszlista!$H26=adatok!$A$1,(szabaszlista!$C26/1000)*szabaszlista!$E26,0)+ IF(szabaszlista!$I26=adatok!$A$1,(szabaszlista!$C26/1000)*szabaszlista!$E26,0)+ IF(szabaszlista!$J26=adatok!$A$1,(szabaszlista!$D26/1000)*szabaszlista!$E26,0)+ IF(szabaszlista!$K26=adatok!$A$1,(szabaszlista!$D26/1000)*szabaszlista!$E26,0)) | N26: =IF( IF(szabaszlista!$H26=adatok!$A$2,(szabaszlista!$C26/1000)*szabaszlista!$E26,0)+ IF(szabaszlista!$I26=adatok!$A$2,(szabaszlista!$C26/1000)*szabaszlista!$E26,0)+ IF(szabaszlista!$J26=adatok!$A$2,(szabaszlista!$D26/1000)*szabaszlista!$E26,0)+ IF(szabaszlista!$K26=adatok!$A$2,(szabaszlista!$D26/1000)*szabaszlista!$E26,0)=0, "", IF(szabaszlista!$H26=adatok!$A$2,(szabaszlista!$C26/1000)*szabaszlista!$E26,0)+ IF(szabaszlista!$I26=adatok!$A$2,(szabaszlista!$C26/1000)*szabaszlista!$E26,0)+ IF(szabaszlista!$J26=adatok!$A$2,(szabaszlista!$D26/1000)*szabaszlista!$E26,0)+ IF(szabaszlista!$K26=adatok!$A$2,(szabaszlista!$D26/1000)*szabaszlista!$E26,0)) | O26: =IF( IF(szabaszlista!$H26=adatok!$A$3,(szabaszlista!$C26/1000)*szabaszlista!$E26,0)+ IF(szabaszlista!$I26=adatok!$A$3,(szabaszlista!$C26/1000)*szabaszlista!$E26,0)+ IF(szabaszlista!$J26=adatok!$A$3,(szabaszlista!$D26/1000)*szabaszlista!$E26,0)+ IF(szabaszlista!$K26=adatok!$A$3,(szabaszlista!$D26/1000)*szabaszlista!$E26,0)=0, "", IF(szabaszlista!$H26=adatok!$A$3,(szabaszlista!$C26/1000)*szabaszlista!$E26,0)+ IF(szabaszlista!$I26=adatok!$A$3,(szabaszlista!$C26/1000)*szabaszlista!$E26,0)+ IF(szabaszlista!$J26=adatok!$A$3,(szabaszlista!$D26/1000)*szabaszlista!$E26,0)+ IF(szabaszlista!$K26=adatok!$A$3,(szabaszlista!$D26/1000)*szabaszlista!$E26,0)) | P26: =IF( IF(szabaszlista!$H26=adatok!$A$4,(szabaszlista!$C26/1000)*szabaszlista!$E26,0)+ IF(szabaszlista!$I26=adatok!$A$4,(szabaszlista!$C26/1000)*szabaszlista!$E26,0)+ IF(szabaszlista!$J26=adatok!$A$4,(szabaszlista!$D26/1000)*szabaszlista!$E26,0)+ IF(szabaszlista!$K26=adatok!$A$4,(szabaszlista!$D26/1000)*szabaszlista!$E26,0)=0, "", IF(szabaszlista!$H26=adatok!$A$4,(szabaszlista!$C26/1000)*szabaszlista!$E26,0)+ IF(szabaszlista!$I26=adatok!$A$4,(szabaszlista!$C26/1000)*szabaszlista!$E26,0)+ IF(szabaszlista!$J26=adatok!$A$4,(szabaszlista!$D26/1000)*szabaszlista!$E26,0)+ IF(szabaszlista!$K26=adatok!$A$4,(szabaszlista!$D26/1000)*szabaszlista!$E26,0)) | Q26: =IF(szabaszlista!$E26>0,((szabaszlista!$C26/1000)*(szabaszlista!$D26/1000))*szabaszlista!$E26,"")
M27: =IF( IF(szabaszlista!$H27=adatok!$A$1,(szabaszlista!$C27/1000)*szabaszlista!$E27,0)+ IF(szabaszlista!$I27=adatok!$A$1,(szabaszlista!$C27/1000)*szabaszlista!$E27,0)+ IF(szabaszlista!$J27=adatok!$A$1,(szabaszlista!$D27/1000)*szabaszlista!$E27,0)+ IF(szabaszlista!$K27=adatok!$A$1,(szabaszlista!$D27/1000)*szabaszlista!$E27,0)=0, "", IF(szabaszlista!$H27=adatok!$A$1,(szabaszlista!$C27/1000)*szabaszlista!$E27,0)+ IF(szabaszlista!$I27=adatok!$A$1,(szabaszlista!$C27/1000)*szabaszlista!$E27,0)+ IF(szabaszlista!$J27=adatok!$A$1,(szabaszlista!$D27/1000)*szabaszlista!$E27,0)+ IF(szabaszlista!$K27=adatok!$A$1,(szabaszlista!$D27/1000)*szabaszlista!$E27,0)) | N27: =IF( IF(szabaszlista!$H27=adatok!$A$2,(szabaszlista!$C27/1000)*szabaszlista!$E27,0)+ IF(szabaszlista!$I27=adatok!$A$2,(szabaszlista!$C27/1000)*szabaszlista!$E27,0)+ IF(szabaszlista!$J27=adatok!$A$2,(szabaszlista!$D27/1000)*szabaszlista!$E27,0)+ IF(szabaszlista!$K27=adatok!$A$2,(szabaszlista!$D27/1000)*szabaszlista!$E27,0)=0, "", IF(szabaszlista!$H27=adatok!$A$2,(szabaszlista!$C27/1000)*szabaszlista!$E27,0)+ IF(szabaszlista!$I27=adatok!$A$2,(szabaszlista!$C27/1000)*szabaszlista!$E27,0)+ IF(szabaszlista!$J27=adatok!$A$2,(szabaszlista!$D27/1000)*szabaszlista!$E27,0)+ IF(szabaszlista!$K27=adatok!$A$2,(szabaszlista!$D27/1000)*szabaszlista!$E27,0)) | O27: =IF( IF(szabaszlista!$H27=adatok!$A$3,(szabaszlista!$C27/1000)*szabaszlista!$E27,0)+ IF(szabaszlista!$I27=adatok!$A$3,(szabaszlista!$C27/1000)*szabaszlista!$E27,0)+ IF(szabaszlista!$J27=adatok!$A$3,(szabaszlista!$D27/1000)*szabaszlista!$E27,0)+ IF(szabaszlista!$K27=adatok!$A$3,(szabaszlista!$D27/1000)*szabaszlista!$E27,0)=0, "", IF(szabaszlista!$H27=adatok!$A$3,(szabaszlista!$C27/1000)*szabaszlista!$E27,0)+ IF(szabaszlista!$I27=adatok!$A$3,(szabaszlista!$C27/1000)*szabaszlista!$E27,0)+ IF(szabaszlista!$J27=adatok!$A$3,(szabaszlista!$D27/1000)*szabaszlista!$E27,0)+ IF(szabaszlista!$K27=adatok!$A$3,(szabaszlista!$D27/1000)*szabaszlista!$E27,0)) | P27: =IF( IF(szabaszlista!$H27=adatok!$A$4,(szabaszlista!$C27/1000)*szabaszlista!$E27,0)+ IF(szabaszlista!$I27=adatok!$A$4,(szabaszlista!$C27/1000)*szabaszlista!$E27,0)+ IF(szabaszlista!$J27=adatok!$A$4,(szabaszlista!$D27/1000)*szabaszlista!$E27,0)+ IF(szabaszlista!$K27=adatok!$A$4,(szabaszlista!$D27/1000)*szabaszlista!$E27,0)=0, "", IF(szabaszlista!$H27=adatok!$A$4,(szabaszlista!$C27/1000)*szabaszlista!$E27,0)+ IF(szabaszlista!$I27=adatok!$A$4,(szabaszlista!$C27/1000)*szabaszlista!$E27,0)+ IF(szabaszlista!$J27=adatok!$A$4,(szabaszlista!$D27/1000)*szabaszlista!$E27,0)+ IF(szabaszlista!$K27=adatok!$A$4,(szabaszlista!$D27/1000)*szabaszlista!$E27,0)) | Q27: =IF(szabaszlista!$E27>0,((szabaszlista!$C27/1000)*(szabaszlista!$D27/1000))*szabaszlista!$E27,"")
M28: =IF( IF(szabaszlista!$H28=adatok!$A$1,(szabaszlista!$C28/1000)*szabaszlista!$E28,0)+ IF(szabaszlista!$I28=adatok!$A$1,(szabaszlista!$C28/1000)*szabaszlista!$E28,0)+ IF(szabaszlista!$J28=adatok!$A$1,(szabaszlista!$D28/1000)*szabaszlista!$E28,0)+ IF(szabaszlista!$K28=adatok!$A$1,(szabaszlista!$D28/1000)*szabaszlista!$E28,0)=0, "", IF(szabaszlista!$H28=adatok!$A$1,(szabaszlista!$C28/1000)*szabaszlista!$E28,0)+ IF(szabaszlista!$I28=adatok!$A$1,(szabaszlista!$C28/1000)*szabaszlista!$E28,0)+ IF(szabaszlista!$J28=adatok!$A$1,(szabaszlista!$D28/1000)*szabaszlista!$E28,0)+ IF(szabaszlista!$K28=adatok!$A$1,(szabaszlista!$D28/1000)*szabaszlista!$E28,0)) | N28: =IF( IF(szabaszlista!$H28=adatok!$A$2,(szabaszlista!$C28/1000)*szabaszlista!$E28,0)+ IF(szabaszlista!$I28=adatok!$A$2,(szabaszlista!$C28/1000)*szabaszlista!$E28,0)+ IF(szabaszlista!$J28=adatok!$A$2,(szabaszlista!$D28/1000)*szabaszlista!$E28,0)+ IF(szabaszlista!$K28=adatok!$A$2,(szabaszlista!$D28/1000)*szabaszlista!$E28,0)=0, "", IF(szabaszlista!$H28=adatok!$A$2,(szabaszlista!$C28/1000)*szabaszlista!$E28,0)+ IF(szabaszlista!$I28=adatok!$A$2,(szabaszlista!$C28/1000)*szabaszlista!$E28,0)+ IF(szabaszlista!$J28=adatok!$A$2,(szabaszlista!$D28/1000)*szabaszlista!$E28,0)+ IF(szabaszlista!$K28=adatok!$A$2,(szabaszlista!$D28/1000)*szabaszlista!$E28,0)) | O28: =IF( IF(szabaszlista!$H28=adatok!$A$3,(szabaszlista!$C28/1000)*szabaszlista!$E28,0)+ IF(szabaszlista!$I28=adatok!$A$3,(szabaszlista!$C28/1000)*szabaszlista!$E28,0)+ IF(szabaszlista!$J28=adatok!$A$3,(szabaszlista!$D28/1000)*szabaszlista!$E28,0)+ IF(szabaszlista!$K28=adatok!$A$3,(szabaszlista!$D28/1000)*szabaszlista!$E28,0)=0, "", IF(szabaszlista!$H28=adatok!$A$3,(szabaszlista!$C28/1000)*szabaszlista!$E28,0)+ IF(szabaszlista!$I28=adatok!$A$3,(szabaszlista!$C28/1000)*szabaszlista!$E28,0)+ IF(szabaszlista!$J28=adatok!$A$3,(szabaszlista!$D28/1000)*szabaszlista!$E28,0)+ IF(szabaszlista!$K28=adatok!$A$3,(szabaszlista!$D28/1000)*szabaszlista!$E28,0)) | P28: =IF( IF(szabaszlista!$H28=adatok!$A$4,(szabaszlista!$C28/1000)*szabaszlista!$E28,0)+ IF(szabaszlista!$I28=adatok!$A$4,(szabaszlista!$C28/1000)*szabaszlista!$E28,0)+ IF(szabaszlista!$J28=adatok!$A$4,(szabaszlista!$D28/1000)*szabaszlista!$E28,0)+ IF(szabaszlista!$K28=adatok!$A$4,(szabaszlista!$D28/1000)*szabaszlista!$E28,0)=0, "", IF(szabaszlista!$H28=adatok!$A$4,(szabaszlista!$C28/1000)*szabaszlista!$E28,0)+ IF(szabaszlista!$I28=adatok!$A$4,(szabaszlista!$C28/1000)*szabaszlista!$E28,0)+ IF(szabaszlista!$J28=adatok!$A$4,(szabaszlista!$D28/1000)*szabaszlista!$E28,0)+ IF(szabaszlista!$K28=adatok!$A$4,(szabaszlista!$D28/1000)*szabaszlista!$E28,0)) | Q28: =IF(szabaszlista!$E28>0,((szabaszlista!$C28/1000)*(szabaszlista!$D28/1000))*szabaszlista!$E28,"")
... M113: =IF( IF(szabaszlista!$H113=adatok!$A$1,(szabaszlista!$C113/1000)*szabaszlista!$E113,0)+ IF(szabaszlista!$I113=adatok!$A$1,(szabaszlista!$C113/1000)*szabaszlista!$E113,0)+ IF(szabaszlista!$J113=adatok!$A$1,(szabaszlista!$D113/1000)*szabaszlista!$E113,0)+ IF(szabaszlista!$K113=adatok!$A$1,(szabaszlista!$D113/1000)*szabaszlista!$E113,0)=0, "", IF(szabaszlista!$H113=adatok!$A$1,(szabaszlista!$C113/1000)*szabaszlista!$E113,0)+ IF(szabaszlista!$I113=adatok!$A$1,(szabaszlista!$C113/1000)*szabaszlista!$E113,0)+ IF(szabaszlista!$J113=adatok!$A$1,(szabaszlista!$D113/1000)*szabaszlista!$E113,0)+ IF(szabaszlista!$K113=adatok!$A$1,(szabaszlista!$D113/1000)*szabaszlista!$E113,0)) | N113: =IF( IF(szabaszlista!$H113=adatok!$A$2,(szabaszlista!$C113/1000)*szabaszlista!$E113,0)+ IF(szabaszlista!$I113=adatok!$A$2,(szabaszlista!$C113/1000)*szabaszlista!$E113,0)+ IF(szabaszlista!$J113=adatok!$A$2,(szabaszlista!$D113/1000)*szabaszlista!$E113,0)+ IF(szabaszlista!$K113=adatok!$A$2,(szabaszlista!$D113/1000)*szabaszlista!$E113,0)=0, "", IF(szabaszlista!$H113=adatok!$A$2,(szabaszlista!$C113/1000)*szabaszlista!$E113,0)+ IF(szabaszlista!$I113=adatok!$A$2,(szabaszlista!$C113/1000)*szabaszlista!$E113,0)+ IF(szabaszlista!$J113=adatok!$A$2,(szabaszlista!$D113/1000)*szabaszlista!$E113,0)+ IF(szabaszlista!$K113=adatok!$A$2,(szabaszlista!$D113/1000)*szabaszlista!$E113,0)) | O113: =IF( IF(szabaszlista!$H113=adatok!$A$3,(szabaszlista!$C113/1000)*szabaszlista!$E113,0)+ IF(szabaszlista!$I113=adatok!$A$3,(szabaszlista!$C113/1000)*szabaszlista!$E113,0)+ IF(szabaszlista!$J113=adatok!$A$3,(szabaszlista!$D113/1000)*szabaszlista!$E113,0)+ IF(szabaszlista!$K113=adatok!$A$3,(szabaszlista!$D113/1000)*szabaszlista!$E113,0)=0, "", IF(szabaszlista!$H113=adatok!$A$3,(szabaszlista!$C113/1000)*szabaszlista!$E113,0)+ IF(szabaszlista!$I113=adatok!$A$3,(szabaszlista!$C113/1000)*szabaszlista!$E113,0)+ IF(szabaszlista!$J113=adatok!$A$3,(szabaszlista!$D113/1000)*szabaszlista!$E113,0)+ IF(szabaszlista!$K113=adatok!$A$3,(szabaszlista!$D113/1000)*szabaszlista!$E113,0)) | P113: =IF( IF(szabaszlista!$H113=adatok!$A$4,(szabaszlista!$C113/1000)*szabaszlista!$E113,0)+ IF(szabaszlista!$I113=adatok!$A$4,(szabaszlista!$C113/1000)*szabaszlista!$E113,0)+ IF(szabaszlista!$J113=adatok!$A$4,(szabaszlista!$D113/1000)*szabaszlista!$E113,0)+ IF(szabaszlista!$K113=adatok!$A$4,(szabaszlista!$D113/1000)*szabaszlista!$E113,0)=0, "", IF(szabaszlista!$H113=adatok!$A$4,(szabaszlista!$C113/1000)*szabaszlista!$E113,0)+ IF(szabaszlista!$I113=adatok!$A$4,(szabaszlista!$C113/1000)*szabaszlista!$E113,0)+ IF(szabaszlista!$J113=adatok!$A$4,(szabaszlista!$D113/1000)*szabaszlista!$E113,0)+ IF(szabaszlista!$K113=adatok!$A$4,(szabaszlista!$D113/1000)*szabaszlista!$E113,0)) | Q113: =IF(szabaszlista!$E113>0,((szabaszlista!$C113/1000)*(szabaszlista!$D113/1000))*szabaszlista!$E113,"")

Sheet adatok
A1: 0.4 | B1: Válassz!
A2: 0.8 | B2: Árajánlat
A3: 1 | B3: Megrendelés
A4: 2
